{"text_format":"3","workbook":"xlsx","n_sheets":3,"sheets":["Лист1","Лист2","Лист3"],"not_rendered":{"external_links":3},"read":"whole","date_system":"1900"}

{"sheet":"Лист1","index":0,"n_rows":138,"n_cols":8,"rows_kept":138,"merged":[[0,1,0,4]]}
[null,"Список участников муниципального этапа олимпиады по предмету \"Литература\""]
[{"$f":"[1]свод!A9","v":"№ п/п"},{"$f":"[1]свод!B9","v":"Район"},{"$f":"[1]свод!C9","v":"Полное наименование образовательного учреждения (по уставу)"},{"$f":"[1]свод!D9","v":"Фамилия"},{"$f":"[1]свод!E9","v":"Имя "},{"$f":"[1]свод!F9","v":"Отчество"},{"$f":"[1]свод!G9","v":"Класс"},{"$f":"[1]свод!H9","v":"Количество баллов"}]
[{"$f":"[1]свод!A10","v":1},{"$f":"[1]свод!B10","v":"Альметьевский "},{"$f":"[1]свод!C10","v":"МБОО \"СОШ №24\""},{"$f":"[1]свод!D10","v":"Сайбель"},{"$f":"[1]свод!E10","v":"Ксения"},{"$f":"[1]свод!F10","v":"Юрьевна"},{"$f":"[1]свод!G10","v":"7а"},{"$f":"[1]свод!H10","v":30}]
[{"$f":"[1]свод!A11","v":2},{"$f":"[1]свод!B11","v":"Альметьевский "},{"$f":"[1]свод!C11","v":"МБОУ \"Кичуйская СОШ\""},{"$f":"[1]свод!D11","v":"Хафизова"},{"$f":"[1]свод!E11","v":"Мадина"},{"$f":"[1]свод!F11","v":"Нафисовна"},{"$f":"[1]свод!G11","v":7},{"$f":"[1]свод!H11","v":35}]
[{"$f":"[1]свод!A12","v":3},{"$f":"[1]свод!B12","v":"Альметьевский "},{"$f":"[1]свод!C12","v":"МБОУ\"Нижнемактаминская СОШ№2\""},{"$f":"[1]свод!D12","v":"Романова"},{"$f":"[1]свод!E12","v":"Кира"},{"$f":"[1]свод!F12","v":"Павловна"},{"$f":"[1]свод!G12","v":"7А"},{"$f":"[1]свод!H12","v":28}]
[{"$f":"[1]свод!A13","v":4},{"$f":"[1]свод!B13","v":"Альметьевский "},{"$f":"[1]свод!C13","v":"МБОО \"СОШ №24\""},{"$f":"[1]свод!D13","v":"Харисова"},{"$f":"[1]свод!E13","v":"Аида"},{"$f":"[1]свод!F13","v":"Айратовна"},{"$f":"[1]свод!G13","v":"7д"},{"$f":"[1]свод!H13","v":27}]
[{"$f":"[1]свод!A14","v":5},{"$f":"[1]свод!B14","v":"Альметьевский "},{"$f":"[1]свод!C14","v":"МАОУ \" СОШ № 10 с углубленным изучением отдельных предметов\""},{"$f":"[1]свод!D14","v":"Мурунова"},{"$f":"[1]свод!E14","v":"Анастасия"},{"$f":"[1]свод!F14","v":0},{"$f":"[1]свод!G14","v":7},{"$f":"[1]свод!H14","v":26}]
[{"$f":"[1]свод!A15","v":6},{"$f":"[1]свод!B15","v":"Альметьевский "},{"$f":"[1]свод!C15","v":"Муниципальное автономное общеобразовательное учреждение \"Лицей №2\""},{"$f":"[1]свод!D15","v":"Пчельникова "},{"$f":"[1]свод!E15","v":"Диана"},{"$f":"[1]свод!F15","v":"Евгеньевна"},{"$f":"[1]свод!G15","v":"7Б"},{"$f":"[1]свод!H15","v":26}]
[{"$f":"[1]свод!A16","v":7},{"$f":"[1]свод!B16","v":"Альметьевский "},{"$f":"[1]свод!C16","v":"МБОУ \"СОШ №25 имени 70-летия нефти Татарстана"},{"$f":"[1]свод!D16","v":"Юсупова"},{"$f":"[1]свод!E16","v":"Диана"},{"$f":"[1]свод!F16","v":"Ирековна"},{"$f":"[1]свод!G16","v":"7 а"},{"$f":"[1]свод!H16","v":26}]
[{"$f":"[1]свод!A17","v":8},{"$f":"[1]свод!B17","v":"Альметьевский "},{"$f":"[1]свод!C17","v":"МБОУ\"Нижнемактаминская СОШ№2\""},{"$f":"[1]свод!D17","v":"Мухаметшина"},{"$f":"[1]свод!E17","v":"Камиля"},{"$f":"[1]свод!F17","v":"Айдаровна"},{"$f":"[1]свод!G17","v":"7А"},{"$f":"[1]свод!H17","v":26}]
[{"$f":"[1]свод!A18","v":9},{"$f":"[1]свод!B18","v":"Альметьевский "},{"$f":"[1]свод!C18","v":"Муниципальное бюджетное общеобразовательное учреждение \"Средняя общеобразовательная школа №1, им. М.К.Тагирова\""},{"$f":"[1]свод!D18","v":"Садриева"},{"$f":"[1]свод!E18","v":"Амилия"},{"$f":"[1]свод!F18","v":"Айратовна"},{"$f":"[1]свод!G18","v":"7а"},{"$f":"[1]свод!H18","v":26}]
[{"$f":"[1]свод!A19","v":10},{"$f":"[1]свод!B19","v":"Альметьевский "},{"$f":"[1]свод!C19","v":"МБОУ \"СОШ №25 имени 70-летия нефти Татарстана"},{"$f":"[1]свод!D19","v":"Александрова "},{"$f":"[1]свод!E19","v":"Александра"},{"$f":"[1]свод!F19","v":"Петровна"},{"$f":"[1]свод!G19","v":"7 д"},{"$f":"[1]свод!H19","v":25}]
[{"$f":"[1]свод!A20","v":11},{"$f":"[1]свод!B20","v":"Альметьевский "},{"$f":"[1]свод!C20","v":"МБОУ \"СОШ №25 имени 70-летия нефти Татарстана"},{"$f":"[1]свод!D20","v":"Исаева"},{"$f":"[1]свод!E20","v":"Сона"},{"$f":"[1]свод!F20","v":"Илхан кызы"},{"$f":"[1]свод!G20","v":"7 ж"},{"$f":"[1]свод!H20","v":25}]
[{"$f":"[1]свод!A21","v":12},{"$f":"[1]свод!B21","v":"Альметьевский "},{"$f":"[1]свод!C21","v":"МАОУ \"СОШ№7\""},{"$f":"[1]свод!D21","v":"Багуманова"},{"$f":"[1]свод!E21","v":"Камилла"},{"$f":"[1]свод!F21","v":"Камиловна"},{"$f":"[1]свод!G21","v":"7 А"},{"$f":"[1]свод!H21","v":25}]
[{"$f":"[1]свод!A22","v":13},{"$f":"[1]свод!B22","v":"Альметьевский "},{"$f":"[1]свод!C22","v":"МБОУ СОШ № 4"},{"$f":"[1]свод!D22","v":"Белова"},{"$f":"[1]свод!E22","v":"Камилла"},{"$f":"[1]свод!F22","v":"Денисовна"},{"$f":"[1]свод!G22","v":"7 А"},{"$f":"[1]свод!H22","v":25}]
[{"$f":"[1]свод!A23","v":14},{"$f":"[1]свод!B23","v":"Альметьевский "},{"$f":"[1]свод!C23","v":"МБОО \"СОШ №24\""},{"$f":"[1]свод!D23","v":"Турьянова"},{"$f":"[1]свод!E23","v":"Софья"},{"$f":"[1]свод!F23","v":"Маратовна"},{"$f":"[1]свод!G23","v":"7в"},{"$f":"[1]свод!H23","v":25}]
[{"$f":"[1]свод!A24","v":15},{"$f":"[1]свод!B24","v":"Альметьевский "},{"$f":"[1]свод!C24","v":"МАОУ \"СОШ№7\""},{"$f":"[1]свод!D24","v":"Кузнецова"},{"$f":"[1]свод!E24","v":"Анастасия"},{"$f":"[1]свод!F24","v":"Александровна"},{"$f":"[1]свод!G24","v":"7 А"},{"$f":"[1]свод!H24","v":24}]
[{"$f":"[1]свод!A25","v":16},{"$f":"[1]свод!B25","v":"Альметьевский "},{"$f":"[1]свод!C25","v":"МБОУ\"Нижнемактаминская СОШ№2\""},{"$f":"[1]свод!D25","v":"Ткачёва"},{"$f":"[1]свод!E25","v":"Виктория"},{"$f":"[1]свод!F25","v":"Андреевна"},{"$f":"[1]свод!G25","v":"7Б"},{"$f":"[1]свод!H25","v":24}]
[{"$f":"[1]свод!A26","v":17},{"$f":"[1]свод!B26","v":"Альметьевский "},{"$f":"[1]свод!C26","v":"МАОУ ''Лицей-интернат №1''"},{"$f":"[1]свод!D26","v":"Султанов"},{"$f":"[1]свод!E26","v":"Азамат "},{"$f":"[1]свод!F26","v":"Маратович"},{"$f":"[1]свод!G26","v":"7А"},{"$f":"[1]свод!H26","v":23}]
[{"$f":"[1]свод!A27","v":18},{"$f":"[1]свод!B27","v":"Альметьевский "},{"$f":"[1]свод!C27","v":"МБОО \"СОШ №24\""},{"$f":"[1]свод!D27","v":"Кабанова"},{"$f":"[1]свод!E27","v":"Виктория"},{"$f":"[1]свод!F27","v":"Евгеньевна"},{"$f":"[1]свод!G27","v":"7а"},{"$f":"[1]свод!H27","v":23}]
[{"$f":"[1]свод!A28","v":19},{"$f":"[1]свод!B28","v":"Альметьевский "},{"$f":"[1]свод!C28","v":"МАОУ \"СОШ№7\""},{"$f":"[1]свод!D28","v":"Подовалова"},{"$f":"[1]свод!E28","v":"Софья"},{"$f":"[1]свод!F28","v":"Андреевна"},{"$f":"[1]свод!G28","v":"7 А"},{"$f":"[1]свод!H28","v":22}]
[{"$f":"[1]свод!A29","v":20},{"$f":"[1]свод!B29","v":"Альметьевский "},{"$f":"[1]свод!C29","v":"МАОУ \" СОШ № 10 с углубленным изучением отдельных предметов\""},{"$f":"[1]свод!D29","v":"Казаева"},{"$f":"[1]свод!E29","v":"Яна"},{"$f":"[1]свод!F29","v":0},{"$f":"[1]свод!G29","v":7},{"$f":"[1]свод!H29","v":21}]
[{"$f":"[1]свод!A30","v":21},{"$f":"[1]свод!B30","v":"Альметьевский "},{"$f":"[1]свод!C30","v":"Муниципальное автономное общеобразовательное учреждение \"Лицей №2\""},{"$f":"[1]свод!D30","v":"Мишанова"},{"$f":"[1]свод!E30","v":"Елизавета "},{"$f":"[1]свод!F30","v":"Евгеньевна"},{"$f":"[1]свод!G30","v":"7Г"},{"$f":"[1]свод!H30","v":21}]
[{"$f":"[1]свод!A31","v":22},{"$f":"[1]свод!B31","v":"Альметьевский "},{"$f":"[1]свод!C31","v":"Муниципальное автономное общеобразовательное учреждение \"Средняя общеобразовательная школа №17\""},{"$f":"[1]свод!D31","v":"Глухова"},{"$f":"[1]свод!E31","v":"Карина"},{"$f":"[1]свод!F31","v":"Руслановна"},{"$f":"[1]свод!G31","v":"7а"},{"$f":"[1]свод!H31","v":21}]
[{"$f":"[1]свод!A32","v":23},{"$f":"[1]свод!B32","v":"Альметьевский "},{"$f":"[1]свод!C32","v":"МБОУ \"Нижнемактаминская СОШ №1\""},{"$f":"[1]свод!D32","v":"Аглиуллина"},{"$f":"[1]свод!E32","v":"Алия"},{"$f":"[1]свод!F32","v":"Наилевна"},{"$f":"[1]свод!G32","v":7},{"$f":"[1]свод!H32","v":21}]
[{"$f":"[1]свод!A33","v":24},{"$f":"[1]свод!B33","v":"Альметьевский "},{"$f":"[1]свод!C33","v":"МАОУ \"СОШ№7\""},{"$f":"[1]свод!D33","v":"Юдинцева"},{"$f":"[1]свод!E33","v":"Валерия"},{"$f":"[1]свод!F33","v":"Дмитриевна"},{"$f":"[1]свод!G33","v":"7 В"},{"$f":"[1]свод!H33","v":21}]
[{"$f":"[1]свод!A34","v":25},{"$f":"[1]свод!B34","v":"Альметьевский "},{"$f":"[1]свод!C34","v":"ЧОУ СШ №23 \"Менеджер\""},{"$f":"[1]свод!D34","v":"Кельдюшова"},{"$f":"[1]свод!E34","v":"Виктория"},{"$f":"[1]свод!F34","v":"Игоревна"},{"$f":"[1]свод!G34","v":7},{"$f":"[1]свод!H34","v":21}]
[{"$f":"[1]свод!A35","v":26},{"$f":"[1]свод!B35","v":"Альметьевский "},{"$f":"[1]свод!C35","v":"МАОУ \"СОШ№7\""},{"$f":"[1]свод!D35","v":"Аминова"},{"$f":"[1]свод!E35","v":"Аделина"},{"$f":"[1]свод!F35","v":"Рашидовна"},{"$f":"[1]свод!G35","v":"8 А"},{"$f":"[1]свод!H35","v":0}]
[{"$f":"[1]свод!A36","v":27},{"$f":"[1]свод!B36","v":"Альметьевский "},{"$f":"[1]свод!C36","v":"МАОУ \"СОШ№7\""},{"$f":"[1]свод!D36","v":"Зарипова"},{"$f":"[1]свод!E36","v":"Алина"},{"$f":"[1]свод!F36","v":"Рашидовна"},{"$f":"[1]свод!G36","v":"8 А"},{"$f":"[1]свод!H36","v":0}]
[{"$f":"[1]свод!A37","v":28},{"$f":"[1]свод!B37","v":"Альметьевский "},{"$f":"[1]свод!C37","v":"МБОУ\"Нижнемактаминская СОШ№2\""},{"$f":"[1]свод!D37","v":"Гайсина "},{"$f":"[1]свод!E37","v":"Ралина"},{"$f":"[1]свод!F37","v":"Айратовна"},{"$f":"[1]свод!G37","v":"8Б"},{"$f":"[1]свод!H37","v":0}]
[{"$f":"[1]свод!A38","v":29},{"$f":"[1]свод!B38","v":"Альметьевский "},{"$f":"[1]свод!C38","v":"Муниципальное бюджетное общеобразовательное учреждение \"Средняя общеобразовательная школа №1, им. М.К.Тагирова\""},{"$f":"[1]свод!D38","v":"Мингалимова"},{"$f":"[1]свод!E38","v":"Алина"},{"$f":"[1]свод!F38","v":"Маратовна"},{"$f":"[1]свод!G38","v":"8а"},{"$f":"[1]свод!H38","v":0}]
[{"$f":"[1]свод!A39","v":30},{"$f":"[1]свод!B39","v":"Альметьевский "},{"$f":"[1]свод!C39","v":"Муниципальное бюджетное общеобразовательное учреждение \"Ерсубайкинская основная общеобразовательная школа\""},{"$f":"[1]свод!D39","v":"Фомина"},{"$f":"[1]свод!E39","v":"Полина"},{"$f":"[1]свод!F39","v":"Александровна"},{"$f":"[1]свод!G39","v":8},{"$f":"[1]свод!H39","v":0}]
[{"$f":"[1]свод!A40","v":31},{"$f":"[1]свод!B40","v":"Альметьевский "},{"$f":"[1]свод!C40","v":"МАОУ ''Лицей-интернат №1''"},{"$f":"[1]свод!D40","v":"Салахутдинов"},{"$f":"[1]свод!E40","v":"Наиль"},{"$f":"[1]свод!F40","v":"Ильдусович"},{"$f":"[1]свод!G40","v":"8Б"},{"$f":"[1]свод!H40","v":0}]
[{"$f":"[1]свод!A41","v":32},{"$f":"[1]свод!B41","v":"Альметьевский "},{"$f":"[1]свод!C41","v":"Муниципальное бюджетное образовательное учреждение \" Сиренькинская средняя образовательная школа\""},{"$f":"[1]свод!D41","v":"Султанова"},{"$f":"[1]свод!E41","v":"Вероника"},{"$f":"[1]свод!F41","v":"Владимировна"},{"$f":"[1]свод!G41","v":8},{"$f":"[1]свод!H41","v":0}]
[{"$f":"[1]свод!A42","v":33},{"$f":"[1]свод!B42","v":"Альметьевский "},{"$f":"[1]свод!C42","v":"МБОУ\"Нижнемактаминская СОШ№2\""},{"$f":"[1]свод!D42","v":"Бибарсова"},{"$f":"[1]свод!E42","v":"Карина"},{"$f":"[1]свод!F42","v":"Рубэновна"},{"$f":"[1]свод!G42","v":"8А"},{"$f":"[1]свод!H42","v":0}]
[{"$f":"[1]свод!A43","v":34},{"$f":"[1]свод!B43","v":"Альметьевский "},{"$f":"[1]свод!C43","v":"ЧОУ СШ №23 \"Менеджер\""},{"$f":"[1]свод!D43","v":"Иктисанов"},{"$f":"[1]свод!E43","v":"Богдан"},{"$f":"[1]свод!F43","v":"Анатольевич"},{"$f":"[1]свод!G43","v":"8а"},{"$f":"[1]свод!H43","v":0}]
[{"$f":"[1]свод!A44","v":35},{"$f":"[1]свод!B44","v":"Альметьевский "},{"$f":"[1]свод!C44","v":"МАОУ \" СОШ № 10 с углубленным изучением отдельных предметов\""},{"$f":"[1]свод!D44","v":"Максутова "},{"$f":"[1]свод!E44","v":"Гузель"},{"$f":"[1]свод!F44","v":0},{"$f":"[1]свод!G44","v":8},{"$f":"[1]свод!H44","v":0}]
[{"$f":"[1]свод!A45","v":36},{"$f":"[1]свод!B45","v":"Альметьевский "},{"$f":"[1]свод!C45","v":"МАОУ \"СОШ№7\""},{"$f":"[1]свод!D45","v":"Гурьянова"},{"$f":"[1]свод!E45","v":"Алия"},{"$f":"[1]свод!F45","v":"Гаязовна"},{"$f":"[1]свод!G45","v":"8 Б"},{"$f":"[1]свод!H45","v":0}]
[{"$f":"[1]свод!A46","v":37},{"$f":"[1]свод!B46","v":"Альметьевский "},{"$f":"[1]свод!C46","v":"МБОУ \"Средняя общеобразовательная школа №6\""},{"$f":"[1]свод!D46","v":"Валиев"},{"$f":"[1]свод!E46","v":"Камиль"},{"$f":"[1]свод!F46","v":"Ренатович"},{"$f":"[1]свод!G46","v":"8Б"},{"$f":"[1]свод!H46","v":0}]
[{"$f":"[1]свод!A47","v":38},{"$f":"[1]свод!B47","v":"Альметьевский "},{"$f":"[1]свод!C47","v":"Муниципальное бюджетное образовательное учреждение \" Сиренькинская средняя образовательная школа\""},{"$f":"[1]свод!D47","v":"Меньшикова"},{"$f":"[1]свод!E47","v":"Валентина"},{"$f":"[1]свод!F47","v":"Юрьевна"},{"$f":"[1]свод!G47","v":8},{"$f":"[1]свод!H47","v":0}]
[{"$f":"[1]свод!A48","v":39},{"$f":"[1]свод!B48","v":"Альметьевский "},{"$f":"[1]свод!C48","v":"Муниципальное бюджетное общеобразовательное учреждение Средняя общеобразовательная школа № 13"},{"$f":"[1]свод!D48","v":"Рахматшоев"},{"$f":"[1]свод!E48","v":"Тимур"},{"$f":"[1]свод!F48","v":"Русланович"},{"$f":"[1]свод!G48","v":7},{"$f":"[1]свод!H48","v":0}]
[{"$f":"[1]свод!A49","v":40},{"$f":"[1]свод!B49","v":"Альметьевский "},{"$f":"[1]свод!C49","v":"МАОУ \"СОШ№7\""},{"$f":"[1]свод!D49","v":"Еграшина"},{"$f":"[1]свод!E49","v":"Виктория"},{"$f":"[1]свод!F49","v":"Олеговна"},{"$f":"[1]свод!G49","v":"8 Б"},{"$f":"[1]свод!H49","v":0}]
[{"$f":"[1]свод!A50","v":41},{"$f":"[1]свод!B50","v":"Альметьевский "},{"$f":"[1]свод!C50","v":"МБОУ\"Нижнемактаминская СОШ№2\""},{"$f":"[1]свод!D50","v":"Баранцева"},{"$f":"[1]свод!E50","v":"Реанна"},{"$f":"[1]свод!F50","v":"Дмитриевна"},{"$f":"[1]свод!G50","v":"8Б"},{"$f":"[1]свод!H50","v":0}]
[{"$f":"[1]свод!A51","v":42},{"$f":"[1]свод!B51","v":"Альметьевский "},{"$f":"[1]свод!C51","v":"МБОУ \"СОШ №4\""},{"$f":"[1]свод!D51","v":"Кляшкина"},{"$f":"[1]свод!E51","v":"Альяна"},{"$f":"[1]свод!F51","v":"Олеговна"},{"$f":"[1]свод!G51","v":"8А"},{"$f":"[1]свод!H51","v":0}]
[{"$f":"[1]свод!A52","v":43},{"$f":"[1]свод!B52","v":"Альметьевский "},{"$f":"[1]свод!C52","v":"МБОУ \"СОШ № 15\""},{"$f":"[1]свод!D52","v":"Клепикова "},{"$f":"[1]свод!E52","v":"Елизавета"},{"$f":"[1]свод!F52","v":"Евгеньевна"},{"$f":"[1]свод!G52","v":8},{"$f":"[1]свод!H52","v":0}]
[{"$f":"[1]свод!A53","v":44},{"$f":"[1]свод!B53","v":"Альметьевский "},{"$f":"[1]свод!C53","v":"ЧОУ СШ №23 \"Менеджер\""},{"$f":"[1]свод!D53","v":"Хакимов "},{"$f":"[1]свод!E53","v":"Руслан"},{"$f":"[1]свод!F53","v":"Мансурович"},{"$f":"[1]свод!G53","v":"8а"},{"$f":"[1]свод!H53","v":0}]
[{"$f":"[1]свод!A54","v":45},{"$f":"[1]свод!B54","v":"Альметьевский "},{"$f":"[1]свод!C54","v":"Муниципальное общеобразовательное учреждение \"Средняя общеобразовательная школа №20\" г. Альметьевска Республики Татарстан"},{"$f":"[1]свод!D54","v":"Гаврилова"},{"$f":"[1]свод!E54","v":"Камилла"},{"$f":"[1]свод!F54","v":"Даниловна"},{"$f":"[1]свод!G54","v":8},{"$f":"[1]свод!H54","v":0}]
[{"$f":"[1]свод!A55","v":46},{"$f":"[1]свод!B55","v":0},{"$f":"[1]свод!C55","v":"сош 25"},{"$f":"[1]свод!D55","v":"Валеева "},{"$f":"[1]свод!E55","v":"Дана "},{"$f":"[1]свод!F55","v":"Ленаровна"},{"$f":"[1]свод!G55","v":8},{"$f":"[1]свод!H55","v":0}]
[{"$f":"[1]свод!A56","v":47},{"$f":"[1]свод!B56","v":0},{"$f":"[1]свод!C56","v":"сош 24"},{"$f":"[1]свод!D56","v":"Сибгатуллина "},{"$f":"[1]свод!E56","v":"Виктория "},{"$f":"[1]свод!F56","v":"Олеговна"},{"$f":"[1]свод!G56","v":8},{"$f":"[1]свод!H56","v":0}]
[{"$f":"[1]свод!A57","v":48},{"$f":"[1]свод!B57","v":0},{"$f":"[1]свод!C57","v":"сош 4"},{"$f":"[1]свод!D57","v":"Сагидуллин"},{"$f":"[1]свод!E57","v":"Эрият"},{"$f":"[1]свод!F57","v":"Ринатович"},{"$f":"[1]свод!G57","v":8},{"$f":"[1]свод!H57","v":0}]
[{"$f":"[1]свод!A58","v":49},{"$f":"[1]свод!B58","v":0},{"$f":"[1]свод!C58","v":"сош 25"},{"$f":"[1]свод!D58","v":"Хусаинова"},{"$f":"[1]свод!E58","v":"Амелия "},{"$f":"[1]свод!F58","v":"Айратовна"},{"$f":"[1]свод!G58","v":9},{"$f":"[1]свод!H58","v":0}]
[{"$f":"[1]свод!A59","v":50},{"$f":"[1]свод!B59","v":"Альметьевский "},{"$f":"[1]свод!C59","v":"МАОУ ''Лицей-интернат №1''"},{"$f":"[1]свод!D59","v":"Абзалов "},{"$f":"[1]свод!E59","v":"Булат "},{"$f":"[1]свод!F59","v":"Вилнурович"},{"$f":"[1]свод!G59","v":"9В"},{"$f":"[1]свод!H59","v":94}]
[{"$f":"[1]свод!A60","v":51},{"$f":"[1]свод!B60","v":"Альметьевский "},{"$f":"[1]свод!C60","v":"Муниципальное бюджетное общеобразовательное учреждение Средняя общеобразовательная школа № 13"},{"$f":"[1]свод!D60","v":"Нигматуллин"},{"$f":"[1]свод!E60","v":"Ильнар"},{"$f":"[1]свод!F60","v":0},{"$f":"[1]свод!G60","v":"9а"},{"$f":"[1]свод!H60","v":90}]
[{"$f":"[1]свод!A61","v":52},{"$f":"[1]свод!B61","v":"Альметьевский "},{"$f":"[1]свод!C61","v":"МБОУ \"Нижнемактаминская СОШ №1\""},{"$f":"[1]свод!D61","v":"Гатауллина"},{"$f":"[1]свод!E61","v":"Аделина"},{"$f":"[1]свод!F61","v":"Марселевна"},{"$f":"[1]свод!G61","v":9},{"$f":"[1]свод!H61","v":89}]
[{"$f":"[1]свод!A62","v":53},{"$f":"[1]свод!B62","v":"Альметьевский "},{"$f":"[1]свод!C62","v":"МАОУ ''Лицей-интернат №1''"},{"$f":"[1]свод!D62","v":"Исмаилов"},{"$f":"[1]свод!E62","v":"Эмиль "},{"$f":"[1]свод!F62","v":"Михайлович"},{"$f":"[1]свод!G62","v":"9Б"},{"$f":"[1]свод!H62","v":87}]
[{"$f":"[1]свод!A63","v":54},{"$f":"[1]свод!B63","v":"Альметьевский "},{"$f":"[1]свод!C63","v":"МАОУ \"СОШ№7\""},{"$f":"[1]свод!D63","v":"Калимуллиан "},{"$f":"[1]свод!E63","v":"Софья "},{"$f":"[1]свод!F63","v":"Ильсуровна"},{"$f":"[1]свод!G63","v":"9 А"},{"$f":"[1]свод!H63","v":84}]
[{"$f":"[1]свод!A64","v":55},{"$f":"[1]свод!B64","v":"Альметьевский "},{"$f":"[1]свод!C64","v":"МБОУ\"СОШ \"11\""},{"$f":"[1]свод!D64","v":"Валиева"},{"$f":"[1]свод!E64","v":"Диана"},{"$f":"[1]свод!F64","v":"Руслановна"},{"$f":"[1]свод!G64","v":9},{"$f":"[1]свод!H64","v":81}]
[{"$f":"[1]свод!A65","v":56},{"$f":"[1]свод!B65","v":"Альметьевский "},{"$f":"[1]свод!C65","v":"МАОУ \"СОШ№7\""},{"$f":"[1]свод!D65","v":"Кузьмина"},{"$f":"[1]свод!E65","v":"Юлия"},{"$f":"[1]свод!F65","v":"Алексеевна"},{"$f":"[1]свод!G65","v":"9 А"},{"$f":"[1]свод!H65","v":80}]
[{"$f":"[1]свод!A66","v":57},{"$f":"[1]свод!B66","v":"Альметьевский "},{"$f":"[1]свод!C66","v":"МБОУ \"СОШ № 15\""},{"$f":"[1]свод!D66","v":"Неклюдова"},{"$f":"[1]свод!E66","v":"Ангелина"},{"$f":"[1]свод!F66","v":"Алексеевна"},{"$f":"[1]свод!G66","v":"9А"},{"$f":"[1]свод!H66","v":79}]
[{"$f":"[1]свод!A67","v":58},{"$f":"[1]свод!B67","v":"Альметьевский "},{"$f":"[1]свод!C67","v":"МБОУ \"СОШ №25 имени 70-летия нефти Татарстана"},{"$f":"[1]свод!D67","v":"Агапова"},{"$f":"[1]свод!E67","v":"Дарья"},{"$f":"[1]свод!F67","v":"Валерьевна"},{"$f":"[1]свод!G67","v":"9 в"},{"$f":"[1]свод!H67","v":78}]
[{"$f":"[1]свод!A68","v":59},{"$f":"[1]свод!B68","v":"Альметьевский "},{"$f":"[1]свод!C68","v":"Муниципальное автономное общеобразовательное учреждение \"Лицей №2\""},{"$f":"[1]свод!D68","v":"Мартынова"},{"$f":"[1]свод!E68","v":"Юлия"},{"$f":"[1]свод!F68","v":"Андреевна"},{"$f":"[1]свод!G68","v":"9Б"},{"$f":"[1]свод!H68","v":77}]
[{"$f":"[1]свод!A69","v":60},{"$f":"[1]свод!B69","v":"Альметьевский "},{"$f":"[1]свод!C69","v":"МБОУ \"Средняя общеобразовательная Школа №6\""},{"$f":"[1]свод!D69","v":"Галимова"},{"$f":"[1]свод!E69","v":"Лейла"},{"$f":"[1]свод!F69","v":"Рустемовна"},{"$f":"[1]свод!G69","v":"9Б"},{"$f":"[1]свод!H69","v":77}]
[{"$f":"[1]свод!A70","v":61},{"$f":"[1]свод!B70","v":"Альметьевский "},{"$f":"[1]свод!C70","v":"МБОУ \"СОШ №25 имени 70-летия нефти Татарстана"},{"$f":"[1]свод!D70","v":"Гаделева"},{"$f":"[1]свод!E70","v":"Анна"},{"$f":"[1]свод!F70","v":"Руслановна"},{"$f":"[1]свод!G70","v":"9 д"},{"$f":"[1]свод!H70","v":75}]
[{"$f":"[1]свод!A71","v":62},{"$f":"[1]свод!B71","v":"Альметьевский "},{"$f":"[1]свод!C71","v":"Муниципальное автономное общеобразовательное учреждение \"Средняя общеобразовательная школа №17\""},{"$f":"[1]свод!D71","v":"Красильникова"},{"$f":"[1]свод!E71","v":"Анастасия"},{"$f":"[1]свод!F71","v":"Эдуардовна"},{"$f":"[1]свод!G71","v":"9б"},{"$f":"[1]свод!H71","v":75}]
[{"$f":"[1]свод!A72","v":63},{"$f":"[1]свод!B72","v":"Альметьевский "},{"$f":"[1]свод!C72","v":"Муниципальное автономное общеобразовательное учреждение \"Средняя общеобразовательная школа №16\" г.Альметьевска, РТ"},{"$f":"[1]свод!D72","v":"Фатыхова"},{"$f":"[1]свод!E72","v":"Динара "},{"$f":"[1]свод!F72","v":"Радиковна"},{"$f":"[1]свод!G72","v":"9А"},{"$f":"[1]свод!H72","v":75}]
[{"$f":"[1]свод!A73","v":64},{"$f":"[1]свод!B73","v":"Альметьевский "},{"$f":"[1]свод!C73","v":"МАОУ \"СОШ№7\""},{"$f":"[1]свод!D73","v":"Моргова "},{"$f":"[1]свод!E73","v":"Карина"},{"$f":"[1]свод!F73","v":"Борисовна"},{"$f":"[1]свод!G73","v":"9А"},{"$f":"[1]свод!H73","v":74}]
[{"$f":"[1]свод!A74","v":65},{"$f":"[1]свод!B74","v":"Альметьевский "},{"$f":"[1]свод!C74","v":"МАОУ \"СОШ№7\""},{"$f":"[1]свод!D74","v":"Трофимова"},{"$f":"[1]свод!E74","v":"Анна"},{"$f":"[1]свод!F74","v":"Владиславовна"},{"$f":"[1]свод!G74","v":"9 В"},{"$f":"[1]свод!H74","v":73}]
[{"$f":"[1]свод!A75","v":66},{"$f":"[1]свод!B75","v":"Альметьевский "},{"$f":"[1]свод!C75","v":"МАОУ \" СОШ № 10 с углубленным изучением отдельных предметов\""},{"$f":"[1]свод!D75","v":"Жирнова"},{"$f":"[1]свод!E75","v":"Елизавета"},{"$f":"[1]свод!F75","v":0},{"$f":"[1]свод!G75","v":9},{"$f":"[1]свод!H75","v":72}]
[{"$f":"[1]свод!A76","v":67},{"$f":"[1]свод!B76","v":"Альметьевский "},{"$f":"[1]свод!C76","v":"Муниципальное автономное общеобразовательное учреждение \"Лицей №2\""},{"$f":"[1]свод!D76","v":"Дуванова"},{"$f":"[1]свод!E76","v":"Агата"},{"$f":"[1]свод!F76","v":"Сергеевна"},{"$f":"[1]свод!G76","v":"9Б"},{"$f":"[1]свод!H76","v":71}]
[{"$f":"[1]свод!A77","v":68},{"$f":"[1]свод!B77","v":"Альметьевский "},{"$f":"[1]свод!C77","v":"МАОУ \"СОШ№7\""},{"$f":"[1]свод!D77","v":"Фазлыева"},{"$f":"[1]свод!E77","v":"Аэла"},{"$f":"[1]свод!F77","v":"Альфредовна"},{"$f":"[1]свод!G77","v":"9 Г"},{"$f":"[1]свод!H77","v":71}]
[{"$f":"[1]свод!A78","v":69},{"$f":"[1]свод!B78","v":"Альметьевский "},{"$f":"[1]свод!C78","v":"МАОУ \" СОШ № 10 с углубленным изучением отдельных предметов\""},{"$f":"[1]свод!D78","v":"Рахматуллина"},{"$f":"[1]свод!E78","v":"Карина"},{"$f":"[1]свод!F78","v":0},{"$f":"[1]свод!G78","v":9},{"$f":"[1]свод!H78","v":70}]
[{"$f":"[1]свод!A79","v":70},{"$f":"[1]свод!B79","v":"Альметьевский "},{"$f":"[1]свод!C79","v":"МБОО \"СОШ №24\""},{"$f":"[1]свод!D79","v":"Константинова "},{"$f":"[1]свод!E79","v":"Дарья"},{"$f":"[1]свод!F79","v":"Павловна"},{"$f":"[1]свод!G79","v":"9г"},{"$f":"[1]свод!H79","v":70}]
[{"$f":"[1]свод!A80","v":71},{"$f":"[1]свод!B80","v":"Альметьевский "},{"$f":"[1]свод!C80","v":"МБОУ\"СОШ \"11\""},{"$f":"[1]свод!D80","v":"Казак"},{"$f":"[1]свод!E80","v":"Елизавета"},{"$f":"[1]свод!F80","v":"Игоревна"},{"$f":"[1]свод!G80","v":9},{"$f":"[1]свод!H80","v":69}]
[{"$f":"[1]свод!A81","v":72},{"$f":"[1]свод!B81","v":"Альметьевский "},{"$f":"[1]свод!C81","v":"МАОУ \"СОШ№7\""},{"$f":"[1]свод!D81","v":"Сайфуллина"},{"$f":"[1]свод!E81","v":"Карина"},{"$f":"[1]свод!F81","v":"Эдуардовна"},{"$f":"[1]свод!G81","v":"9 А"},{"$f":"[1]свод!H81","v":68}]
[{"$f":"[1]свод!A82","v":73},{"$f":"[1]свод!B82","v":"Альметьевский "},{"$f":"[1]свод!C82","v":"Муниципальное бюджетное образовательное учреждение \" Сиренькинская средняя общеобразовательная школа\""},{"$f":"[1]свод!D82","v":"Тихонова"},{"$f":"[1]свод!E82","v":"Юлия"},{"$f":"[1]свод!F82","v":"Петровна"},{"$f":"[1]свод!G82","v":"9 А"},{"$f":"[1]свод!H82","v":67}]
[{"$f":"[1]свод!A83","v":74},{"$f":"[1]свод!B83","v":"Альметьевский "},{"$f":"[1]свод!C83","v":"гимназия 5"},{"$f":"[1]свод!D83","v":"Халфиева"},{"$f":"[1]свод!E83","v":"Эмилия"},{"$f":"[1]свод!F83","v":"Рамилевна"},{"$f":"[1]свод!G83","v":10},{"$f":"[1]свод!H83","v":0}]
[{"$f":"[1]свод!A84","v":75},{"$f":"[1]свод!B84","v":"Альметьевский "},{"$f":"[1]свод!C84","v":"сош 10"},{"$f":"[1]свод!D84","v":"Латыпова "},{"$f":"[1]свод!E84","v":"Карина"},{"$f":"[1]свод!F84","v":"Наилевна"},{"$f":"[1]свод!G84","v":10},{"$f":"[1]свод!H84","v":0}]
[{"$f":"[1]свод!A85","v":76},{"$f":"[1]свод!B85","v":"Альметьевский "},{"$f":"[1]свод!C85","v":"Муниципальное бюджетное общеобразовательное учреждение Средняя общеобразовательная школа № 13"},{"$f":"[1]свод!D85","v":"Ганеева"},{"$f":"[1]свод!E85","v":"Азалия"},{"$f":"[1]свод!F85","v":"Ринатовна"},{"$f":"[1]свод!G85","v":10},{"$f":"[1]свод!H85","v":89}]
[{"$f":"[1]свод!A86","v":77},{"$f":"[1]свод!B86","v":"Альметьевский "},{"$f":"[1]свод!C86","v":"Муниципальное автономное общеобразовательное учреждение \"Лицей №2\""},{"$f":"[1]свод!D86","v":"Кучерова"},{"$f":"[1]свод!E86","v":"Валерия"},{"$f":"[1]свод!F86","v":"Павловна"},{"$f":"[1]свод!G86","v":"10А"},{"$f":"[1]свод!H86","v":85}]
[{"$f":"[1]свод!A87","v":78},{"$f":"[1]свод!B87","v":"Альметьевский "},{"$f":"[1]свод!C87","v":"МБОУ\"Нижнемактаминская СОШ№2\""},{"$f":"[1]свод!D87","v":"Алимбеков"},{"$f":"[1]свод!E87","v":"Радмир"},{"$f":"[1]свод!F87","v":0},{"$f":"[1]свод!G87","v":"10ФХ"},{"$f":"[1]свод!H87","v":85}]
[{"$f":"[1]свод!A88","v":79},{"$f":"[1]свод!B88","v":"Альметьевский "},{"$f":"[1]свод!C88","v":"МБОУ Р.Акташская СОШ"},{"$f":"[1]свод!D88","v":"Багаутдинова"},{"$f":"[1]свод!E88","v":"Галина"},{"$f":"[1]свод!F88","v":"Робертовна"},{"$f":"[1]свод!G88","v":10},{"$f":"[1]свод!H88","v":84}]
[{"$f":"[1]свод!A89","v":80},{"$f":"[1]свод!B89","v":"Альметьевский "},{"$f":"[1]свод!C89","v":"Муниципальное бюджетное общеобразовательное учреждение \"Средняя общеобразовательная школа №21-Образовательный центр \"Дай 5\""},{"$f":"[1]свод!D89","v":"Ягудина"},{"$f":"[1]свод!E89","v":"Элина"},{"$f":"[1]свод!F89","v":"Ильгамовна"},{"$f":"[1]свод!G89","v":"10 б"},{"$f":"[1]свод!H89","v":83}]
[{"$f":"[1]свод!A90","v":81},{"$f":"[1]свод!B90","v":"Альметьевский "},{"$f":"[1]свод!C90","v":"МБОУ \"Нижнемактаминская СОШ №1\""},{"$f":"[1]свод!D90","v":"Баязитова "},{"$f":"[1]свод!E90","v":"Алия"},{"$f":"[1]свод!F90","v":"Дамировна"},{"$f":"[1]свод!G90","v":10},{"$f":"[1]свод!H90","v":79}]
[{"$f":"[1]свод!A91","v":82},{"$f":"[1]свод!B91","v":"Альметьевский "},{"$f":"[1]свод!C91","v":"МБОУ \"СОШ 24\""},{"$f":"[1]свод!D91","v":"Хазиева"},{"$f":"[1]свод!E91","v":"Рената"},{"$f":"[1]свод!F91","v":"Тимуровна"},{"$f":"[1]свод!G91","v":"10б"},{"$f":"[1]свод!H91","v":79}]
[{"$f":"[1]свод!A92","v":83},{"$f":"[1]свод!B92","v":"Альметьевский "},{"$f":"[1]свод!C92","v":"МБОУ \"СОШ №24\""},{"$f":"[1]свод!D92","v":"Сунгатуллина "},{"$f":"[1]свод!E92","v":"Карина"},{"$f":"[1]свод!F92","v":"Робертовна"},{"$f":"[1]свод!G92","v":"10б"},{"$f":"[1]свод!H92","v":78}]
[{"$f":"[1]свод!A93","v":84},{"$f":"[1]свод!B93","v":"Альметьевский "},{"$f":"[1]свод!C93","v":"МБОУ Р.Акташская СОШ"},{"$f":"[1]свод!D93","v":"Черашова"},{"$f":"[1]свод!E93","v":"Алина"},{"$f":"[1]свод!F93","v":"Рамильевна"},{"$f":"[1]свод!G93","v":10},{"$f":"[1]свод!H93","v":75}]
[{"$f":"[1]свод!A94","v":85},{"$f":"[1]свод!B94","v":"Альметьевский "},{"$f":"[1]свод!C94","v":"МАОУ \" СОШ № 10 с углубленным изучением отдельных предметов\""},{"$f":"[1]свод!D94","v":"Карамова"},{"$f":"[1]свод!E94","v":"Инна"},{"$f":"[1]свод!F94","v":0},{"$f":"[1]свод!G94","v":10},{"$f":"[1]свод!H94","v":73}]
[{"$f":"[1]свод!A95","v":86},{"$f":"[1]свод!B95","v":"Альметьевский "},{"$f":"[1]свод!C95","v":"Муниципальное автономное общеобразовательное учреждение \"Средняя общеобразовательная школа №17\""},{"$f":"[1]свод!D95","v":"Маннанова"},{"$f":"[1]свод!E95","v":"Зарина"},{"$f":"[1]свод!F95","v":"Ильнаровна"},{"$f":"[1]свод!G95","v":"10а"},{"$f":"[1]свод!H95","v":72}]
[{"$f":"[1]свод!A96","v":87},{"$f":"[1]свод!B96","v":"Альметьевский "},{"$f":"[1]свод!C96","v":"МБОУ\"Нижнемактаминская СОШ№2\""},{"$f":"[1]свод!D96","v":"Хубатова"},{"$f":"[1]свод!E96","v":"Карина"},{"$f":"[1]свод!F96","v":"Рустемовна"},{"$f":"[1]свод!G96","v":"10ФХ"},{"$f":"[1]свод!H96","v":70}]
[{"$f":"[1]свод!A97","v":88},{"$f":"[1]свод!B97","v":"Альметьевский "},{"$f":"[1]свод!C97","v":"МБОУ\"СОШ №11\""},{"$f":"[1]свод!D97","v":"Шипунова"},{"$f":"[1]свод!E97","v":"Елизавета"},{"$f":"[1]свод!F97","v":"Александровна"},{"$f":"[1]свод!G97","v":10},{"$f":"[1]свод!H97","v":70}]
[{"$f":"[1]свод!A98","v":89},{"$f":"[1]свод!B98","v":"Альметьевский "},{"$f":"[1]свод!C98","v":"Муниципальное бюджетное общеобразовательное учреждение \"Средняя общеобразовательная школа №21-Образовательный центр \"Дай 5\""},{"$f":"[1]свод!D98","v":"Куликова"},{"$f":"[1]свод!E98","v":"Ангелина"},{"$f":"[1]свод!F98","v":"Андреевна"},{"$f":"[1]свод!G98","v":"10 б"},{"$f":"[1]свод!H98","v":70}]
[{"$f":"[1]свод!A99","v":90},{"$f":"[1]свод!B99","v":"Альметьевский "},{"$f":"[1]свод!C99","v":"Муниципальное бюджетное общеобразовательноеучреждение \"Средняя общеобразовательная школа №12\""},{"$f":"[1]свод!D99","v":"Гареева"},{"$f":"[1]свод!E99","v":"Диана "},{"$f":"[1]свод!F99","v":"Венеровна"},{"$f":"[1]свод!G99","v":10},{"$f":"[1]свод!H99","v":70}]
[{"$f":"[1]свод!A100","v":91},{"$f":"[1]свод!B100","v":"Альметьевский "},{"$f":"[1]свод!C100","v":"СОШ 2"},{"$f":"[1]свод!D100","v":"Мальцева"},{"$f":"[1]свод!E100","v":"Дарья"},{"$f":"[1]свод!F100","v":"Денисовна"},{"$f":"[1]свод!G100","v":"10А"},{"$f":"[1]свод!H100","v":68}]
[{"$f":"[1]свод!A101","v":92},{"$f":"[1]свод!B101","v":"Альметьевский "},{"$f":"[1]свод!C101","v":"МАОУ \" СОШ № 10 с углубленным изучением отдельных предметов\""},{"$f":"[1]свод!D101","v":"Устюжанина"},{"$f":"[1]свод!E101","v":"Дарья"},{"$f":"[1]свод!F101","v":0},{"$f":"[1]свод!G101","v":10},{"$f":"[1]свод!H101","v":66}]
[{"$f":"[1]свод!A102","v":93},{"$f":"[1]свод!B102","v":"Альметьевский "},{"$f":"[1]свод!C102","v":"Муниципальное автономное общеобразовательное учреждение \"Лицей №2\""},{"$f":"[1]свод!D102","v":"Скарликова"},{"$f":"[1]свод!E102","v":"Юлия"},{"$f":"[1]свод!F102","v":"Владимировна"},{"$f":"[1]свод!G102","v":"10Б"},{"$f":"[1]свод!H102","v":64}]
[{"$f":"[1]свод!A103","v":94},{"$f":"[1]свод!B103","v":"Альметьевский "},{"$f":"[1]свод!C103","v":"Муниципальное Бюджетное образовательное учреждение \" Сиренькинская средняя общеобразовательная школа\""},{"$f":"[1]свод!D103","v":"Севастьянова"},{"$f":"[1]свод!E103","v":"Анна"},{"$f":"[1]свод!F103","v":"Дмитриевна"},{"$f":"[1]свод!G103","v":10},{"$f":"[1]свод!H103","v":64}]
[{"$f":"[1]свод!A104","v":95},{"$f":"[1]свод!B104","v":"Альметьевский "},{"$f":"[1]свод!C104","v":"МАОУ ''Лицей-интернат №1''"},{"$f":"[1]свод!D104","v":"Мурин"},{"$f":"[1]свод!E104","v":"Дмитрий "},{"$f":"[1]свод!F104","v":"Сергеевич"},{"$f":"[1]свод!G104","v":10},{"$f":"[1]свод!H104","v":62}]
[{"$f":"[1]свод!A105","v":96},{"$f":"[1]свод!B105","v":"Альметьевский "},{"$f":"[1]свод!C105","v":"Муниципальное бюджетное общеобразовательное учреждение \"Средняя общеобразовательная школа №1, им. М.К.Тагирова\""},{"$f":"[1]свод!D105","v":"Быченко"},{"$f":"[1]свод!E105","v":"Анастасия"},{"$f":"[1]свод!F105","v":"Андреевна"},{"$f":"[1]свод!G105","v":10},{"$f":"[1]свод!H105","v":60}]
[{"$f":"[1]свод!A106","v":97},{"$f":"[1]свод!B106","v":"Альметьевский "},{"$f":"[1]свод!C106","v":"МБОУ\"СОШ №11\""},{"$f":"[1]свод!D106","v":"Тихонов"},{"$f":"[1]свод!E106","v":"Аскар"},{"$f":"[1]свод!F106","v":"Ильшатович"},{"$f":"[1]свод!G106","v":10},{"$f":"[1]свод!H106","v":60}]
[{"$f":"[1]свод!A107","v":98},{"$f":"[1]свод!B107","v":"Альметьевский"},{"$f":"[1]свод!C107","v":"муниципальное общеобразовательное учреждение \"Гимназия №5\""},{"$f":"[1]свод!D107","v":"Егорова "},{"$f":"[1]свод!E107","v":"Дарья "},{"$f":"[1]свод!F107","v":"Михайловна"},{"$f":"[1]свод!G107","v":10},{"$f":"[1]свод!H107","v":59}]
[{"$f":"[1]свод!A108","v":99},{"$f":"[1]свод!B108","v":"Альметьевский"},{"$f":"[1]свод!C108","v":"Муниципальное общеобразовательное учреждение \"Средняя общеобразовательная школа №20\" г. Альметьевска Республики Татарстан"},{"$f":"[1]свод!D108","v":"Иванова"},{"$f":"[1]свод!E108","v":"Юлия "},{"$f":"[1]свод!F108","v":"Сергеевна"},{"$f":"[1]свод!G108","v":10},{"$f":"[1]свод!H108","v":59}]
[{"$f":"[1]свод!A109","v":100},{"$f":"[1]свод!B109","v":"Альметьевский"},{"$f":"[1]свод!C109","v":"Муниципальное автономное общеобразовательное учреждение \"Лицей №2\""},{"$f":"[1]свод!D109","v":"Седельников"},{"$f":"[1]свод!E109","v":"Роман"},{"$f":"[1]свод!F109","v":"Станиславович"},{"$f":"[1]свод!G109","v":"11А"},{"$f":"[1]свод!H109","v":93}]
[{"$f":"[1]свод!A110","v":101},{"$f":"[1]свод!B110","v":"Альметьевский"},{"$f":"[1]свод!C110","v":"МБОУ \"СОШ №3\""},{"$f":"[1]свод!D110","v":"Дорофеев"},{"$f":"[1]свод!E110","v":"Кирилл"},{"$f":"[1]свод!F110","v":"Константинович"},{"$f":"[1]свод!G110","v":"11 А"},{"$f":"[1]свод!H110","v":90}]
[{"$f":"[1]свод!A111","v":102},{"$f":"[1]свод!B111","v":"Альметьевский"},{"$f":"[1]свод!C111","v":"Муниципальное автономное общеобразовательное учреждение \"Средняя общеобразовательная школа №16\" г.Альметьевска, РТ"},{"$f":"[1]свод!D111","v":"Фазулзянов"},{"$f":"[1]свод!E111","v":"Руслан"},{"$f":"[1]свод!F111","v":"Алмазович"},{"$f":"[1]свод!G111","v":"11А"},{"$f":"[1]свод!H111","v":87}]
[{"$f":"[1]свод!A112","v":103},{"$f":"[1]свод!B112","v":"Альметьевский"},{"$f":"[1]свод!C112","v":"МБОУ\"Нижнемактаминская СОШ№2\""},{"$f":"[1]свод!D112","v":"Зарипова"},{"$f":"[1]свод!E112","v":"Ляйсан"},{"$f":"[1]свод!F112","v":"Айдаровна"},{"$f":"[1]свод!G112","v":11},{"$f":"[1]свод!H112","v":85}]
[{"$f":"[1]свод!A113","v":104},{"$f":"[1]свод!B113","v":"Альметьевский"},{"$f":"[1]свод!C113","v":"МБОУ \"СОШ № 15\""},{"$f":"[1]свод!D113","v":"Муринова"},{"$f":"[1]свод!E113","v":"Олеся"},{"$f":"[1]свод!F113","v":"Сергеевна"},{"$f":"[1]свод!G113","v":11},{"$f":"[1]свод!H113","v":82}]
[{"$f":"[1]свод!A114","v":105},{"$f":"[1]свод!B114","v":"Альметьевский"},{"$f":"[1]свод!C114","v":"муниципальное общеобразовательное учреждение \"Гимназия №5\""},{"$f":"[1]свод!D114","v":"Алиева"},{"$f":"[1]свод!E114","v":"Аделина"},{"$f":"[1]свод!F114","v":"Дамировна"},{"$f":"[1]свод!G114","v":"11А"},{"$f":"[1]свод!H114","v":81}]
[{"$f":"[1]свод!A115","v":106},{"$f":"[1]свод!B115","v":"Альметьевский"},{"$f":"[1]свод!C115","v":"МАОУ \"СОШ\"7\""},{"$f":"[1]свод!D115","v":"Шарипова"},{"$f":"[1]свод!E115","v":"Зарина"},{"$f":"[1]свод!F115","v":"Ильгизаровна"},{"$f":"[1]свод!G115","v":"11 А"},{"$f":"[1]свод!H115","v":81}]
[{"$f":"[1]свод!A116","v":107},{"$f":"[1]свод!B116","v":"Альметьевский"},{"$f":"[1]свод!C116","v":"МБОУ \"СОШ №3\""},{"$f":"[1]свод!D116","v":"Гафурова"},{"$f":"[1]свод!E116","v":"Алина"},{"$f":"[1]свод!F116","v":"Фаниловна"},{"$f":"[1]свод!G116","v":"11 А"},{"$f":"[1]свод!H116","v":80}]
[{"$f":"[1]свод!A117","v":108},{"$f":"[1]свод!B117","v":"Альметьевский"},{"$f":"[1]свод!C117","v":"МБОУ \"СОШ №3\""},{"$f":"[1]свод!D117","v":"Эркаева"},{"$f":"[1]свод!E117","v":"Сабина"},{"$f":"[1]свод!F117","v":"Алиджоновна"},{"$f":"[1]свод!G117","v":"11 А"},{"$f":"[1]свод!H117","v":80}]
[{"$f":"[1]свод!A118","v":109},{"$f":"[1]свод!B118","v":"Альметьевский"},{"$f":"[1]свод!C118","v":"МБОУ\"Нижнемактаминская СОШ№2\""},{"$f":"[1]свод!D118","v":"Давлетшина"},{"$f":"[1]свод!E118","v":"Алтынай"},{"$f":"[1]свод!F118","v":"Алтыновна"},{"$f":"[1]свод!G118","v":11},{"$f":"[1]свод!H118","v":80}]
[{"$f":"[1]свод!A119","v":110},{"$f":"[1]свод!B119","v":"Альметьевский"},{"$f":"[1]свод!C119","v":"Муниципальное бюджетное общеобразовательное учреждение \"Средняя общеобразовательная школа №1, им. М.К.Тагирова\""},{"$f":"[1]свод!D119","v":"Мулюкова"},{"$f":"[1]свод!E119","v":"Динара"},{"$f":"[1]свод!F119","v":"Ильгизовна"},{"$f":"[1]свод!G119","v":11},{"$f":"[1]свод!H119","v":80}]
[{"$f":"[1]свод!A120","v":111},{"$f":"[1]свод!B120","v":"Альметьевский"},{"$f":"[1]свод!C120","v":"МБОУ \"СОШ №11\""},{"$f":"[1]свод!D120","v":"Шайхулисламова"},{"$f":"[1]свод!E120","v":"Алия"},{"$f":"[1]свод!F120","v":"Радиковна"},{"$f":"[1]свод!G120","v":11},{"$f":"[1]свод!H120","v":80}]
[{"$f":"[1]свод!A121","v":112},{"$f":"[1]свод!B121","v":"Альметьевский"},{"$f":"[1]свод!C121","v":"МБОУ \"СОШ №11\""},{"$f":"[1]свод!D121","v":"Захарова"},{"$f":"[1]свод!E121","v":"Дарья"},{"$f":"[1]свод!F121","v":"Владимировна"},{"$f":"[1]свод!G121","v":"11А"},{"$f":"[1]свод!H121","v":76}]
[{"$f":"[1]свод!A122","v":113},{"$f":"[1]свод!B122","v":"Альметьевский"},{"$f":"[1]свод!C122","v":"МБОУ \"СОШ №11\""},{"$f":"[1]свод!D122","v":"Музафарова"},{"$f":"[1]свод!E122","v":"Аида"},{"$f":"[1]свод!F122","v":"Игоревна"},{"$f":"[1]свод!G122","v":"11б"},{"$f":"[1]свод!H122","v":75}]
[{"$f":"[1]свод!A123","v":114},{"$f":"[1]свод!B123","v":"Альметьевский"},{"$f":"[1]свод!C123","v":"МАОУ \"СОШ\"7\""},{"$f":"[1]свод!D123","v":"Андреева"},{"$f":"[1]свод!E123","v":"Екатерина"},{"$f":"[1]свод!F123","v":"Вячеслвавна"},{"$f":"[1]свод!G123","v":"11 А"},{"$f":"[1]свод!H123","v":75}]
[{"$f":"[1]свод!A124","v":115},{"$f":"[1]свод!B124","v":"Альметьевский"},{"$f":"[1]свод!C124","v":"Муниципальное бюджетное общеобразовательноеучреждение \"Средняя общеобразовательная школа №12\""},{"$f":"[1]свод!D124","v":"Шайхутдинова"},{"$f":"[1]свод!E124","v":"Лия"},{"$f":"[1]свод!F124","v":"Ленаровна"},{"$f":"[1]свод!G124","v":11},{"$f":"[1]свод!H124","v":75}]
[{"$f":"[1]свод!A125","v":116},{"$f":"[1]свод!B125","v":"Альметьевский "},{"$f":"[1]свод!C125","v":"ЧОУ СШ №23 \"Менеджер\""},{"$f":"[1]свод!D125","v":"Бердникова "},{"$f":"[1]свод!E125","v":"Юлия"},{"$f":"[1]свод!F125","v":"Руслановна"},{"$f":"[1]свод!G125","v":11},{"$f":"[1]свод!H125","v":75}]
[{"$f":"[1]свод!A126","v":117},{"$f":"[1]свод!B126","v":"Альметьевский"},{"$f":"[1]свод!C126","v":"МАОУ ''Лицей-интернат №1''"},{"$f":"[1]свод!D126","v":"Левченко"},{"$f":"[1]свод!E126","v":"Артур "},{"$f":"[1]свод!F126","v":"Сергеевич"},{"$f":"[1]свод!G126","v":11},{"$f":"[1]свод!H126","v":74}]
[{"$f":"[1]свод!A127","v":118},{"$f":"[1]свод!B127","v":"Альметьевский"},{"$f":"[1]свод!C127","v":"МБОУ Р.Акташская СОШ"},{"$f":"[1]свод!D127","v":"Некрасова"},{"$f":"[1]свод!E127","v":"Анастасия"},{"$f":"[1]свод!F127","v":"Андреевна"},{"$f":"[1]свод!G127","v":11},{"$f":"[1]свод!H127","v":74}]
[{"$f":"[1]свод!A128","v":119},{"$f":"[1]свод!B128","v":"Альметьевский"},{"$f":"[1]свод!C128","v":"МАОУ \"СОШ\"7\""},{"$f":"[1]свод!D128","v":"Киняева"},{"$f":"[1]свод!E128","v":"Дина"},{"$f":"[1]свод!F128","v":"Замировна"},{"$f":"[1]свод!G128","v":"11 А"},{"$f":"[1]свод!H128","v":72}]
[{"$f":"[1]свод!A129","v":120},{"$f":"[1]свод!B129","v":"Альметьевский"},{"$f":"[1]свод!C129","v":"МБОУ \"СОШ №4\""},{"$f":"[1]свод!D129","v":"Шайхулова"},{"$f":"[1]свод!E129","v":"Регина"},{"$f":"[1]свод!F129","v":"Фаизовна"},{"$f":"[1]свод!G129","v":11},{"$f":"[1]свод!H129","v":72}]
[{"$f":"[1]свод!A130","v":121},{"$f":"[1]свод!B130","v":"Альметьевский"},{"$f":"[1]свод!C130","v":"Муниципальное бюджетное общеобразовательное учреждение Средняя общеобразовательная школа № 13"},{"$f":"[1]свод!D130","v":"Однороженко"},{"$f":"[1]свод!E130","v":"Ангелина"},{"$f":"[1]свод!F130","v":"Александровна"},{"$f":"[1]свод!G130","v":11},{"$f":"[1]свод!H130","v":70}]
[{"$f":"[1]свод!A131","v":122},{"$f":"[1]свод!B131","v":"Альметьевский"},{"$f":"[1]свод!C131","v":"МБОУ \"СОШ №4\""},{"$f":"[1]свод!D131","v":"Хасаншин"},{"$f":"[1]свод!E131","v":"Азат"},{"$f":"[1]свод!F131","v":"Нафисович"},{"$f":"[1]свод!G131","v":11},{"$f":"[1]свод!H131","v":70}]
[{"$f":"[1]свод!A132","v":123},{"$f":"[1]свод!B132","v":"Альметьевский"},{"$f":"[1]свод!C132","v":"Муниципальное автономное общеобразовательное учреждение \"Средняя общеобразовательная школа №16\" г.Альметьевска, РТ"},{"$f":"[1]свод!D132","v":"Мустафина"},{"$f":"[1]свод!E132","v":"Алина"},{"$f":"[1]свод!F132","v":"Илгамовна"},{"$f":"[1]свод!G132","v":"11А"},{"$f":"[1]свод!H132","v":69}]
[{"$f":"[1]свод!A133","v":124},{"$f":"[1]свод!B133","v":"Альметьевский"},{"$f":"[1]свод!C133","v":"Муниципальное бюджетное общеобразовательное учреждение \"Средняя общеобразовательная школа №1, им. М.К.Тагирова\""},{"$f":"[1]свод!D133","v":"Кашапова"},{"$f":"[1]свод!E133","v":"Ванесса"},{"$f":"[1]свод!F133","v":"Рамилевна"},{"$f":"[1]свод!G133","v":11},{"$f":"[1]свод!H133","v":65}]
[{"$f":"[1]свод!A134","v":125},{"$f":"[1]свод!B134","v":"Альметьевский"},{"$f":"[1]свод!C134","v":"Муниципальное бюджетное общеобразовательное учреждение \"Средняя общеобразовательная школа №1, им. М.К.Тагирова\""},{"$f":"[1]свод!D134","v":"Хайрутдинова"},{"$f":"[1]свод!E134","v":"Ильвина"},{"$f":"[1]свод!F134","v":"Ильшатовна"},{"$f":"[1]свод!G134","v":11},{"$f":"[1]свод!H134","v":65}]
[{"$f":"[1]свод!A135","v":126},{"$f":"[1]свод!B135","v":"Альметьевский"},{"$f":"[1]свод!C135","v":"Муниципальное бюджетное общеобразовательное учреждение \"Новотроицкая средняя общеобразовательная школа \" Альметьевского муниципального района Республики Татарстан"},{"$f":"[1]свод!D135","v":"Енчукова "},{"$f":"[1]свод!E135","v":"Ирина"},{"$f":"[1]свод!F135","v":0},{"$f":"[1]свод!G135","v":11},{"$f":"[1]свод!H135","v":64}]
[{"$f":"[1]свод!A136","v":127},{"$f":"[1]свод!B136","v":0},{"$f":"[1]свод!C136","v":"МАОУ \" СОШ № 10 с углубленным изучением отдельных предметов\""},{"$f":"[1]свод!D136","v":"Никифорова"},{"$f":"[1]свод!E136","v":"Дарья"},{"$f":"[1]свод!F136","v":0},{"$f":"[1]свод!G136","v":11},{"$f":"[1]свод!H136","v":63}]
[{"$f":"[1]свод!A137","v":128},{"$f":"[1]свод!B137","v":0},{"$f":"[1]свод!C137","v":"МАОУ \"СОШ\"7\""},{"$f":"[1]свод!D137","v":"Губайдуллиан"},{"$f":"[1]свод!E137","v":"Алсу"},{"$f":"[1]свод!F137","v":"Фидаиловна"},{"$f":"[1]свод!G137","v":"11 А"},{"$f":"[1]свод!H137","v":61}]
[{"$f":"[1]свод!A138","v":129},{"$f":"[1]свод!B138","v":0},{"$f":"[1]свод!C138","v":"сош15"},{"$f":"[1]свод!D138","v":"Муринова"},{"$f":"[1]свод!E138","v":"Олеся"},{"$f":"[1]свод!F138","v":"Сергеевна"},{"$f":"[1]свод!G138","v":11},{"$f":"[1]свод!H138","v":0}]
[130,null,{"$f":"'[2]9 кл'!C9","v":"Муниципальное бюджетное общеобразовательное учреждение \"Гимназия №1 им.Р.Фахретдина\""},{"$f":"'[2]9 кл'!D9","v":"Шигапова "},{"$f":"'[2]9 кл'!E9","v":"Диляра"},{"$f":"'[2]9 кл'!F9","v":"Радиковна"},{"$f":"'[2]9 кл'!G9","v":"9 В"},{"$f":"'[2]9 кл'!H9","v":59}]
[131,null,{"$f":"'[2]9 кл'!C10","v":"Муниципальное бюджетное общеобразовательное учреждение \"Гимназия №1 им.Р.Фахретдина\""},{"$f":"'[2]9 кл'!D10","v":"Каримова"},{"$f":"'[2]9 кл'!E10","v":"Индира"},{"$f":"'[2]9 кл'!F10","v":"Равилевна"},{"$f":"'[2]9 кл'!G10","v":"9В"},{"$f":"'[2]9 кл'!H10","v":68}]
[132,null,{"$f":"'[2]11 кл'!C9","v":"Муниципальное бюджетное общеобразовательное учреждение \"Гимназия №1 им.Р.Фахретдина\""},{"$f":"'[2]11 кл'!D9","v":"Газымова"},{"$f":"'[2]11 кл'!E9","v":"Лилия"},{"$f":"'[2]11 кл'!F9","v":"Алмазовна"},{"$f":"'[2]11 кл'!G9","v":11},{"$f":"'[2]11 кл'!H9","v":83}]
[null,null,{"$f":"'[3]7 классы'!C9","v":"Муниципальное общеобразовательное учреждение \"Средняя общеобразовательная школа №20\" г. Альметьевска Республики Татарстан"},{"$f":"'[3]7 классы'!D9","v":"Тихонова"},{"$f":"'[3]7 классы'!E9","v":"Елизавета"},{"$f":"'[3]7 классы'!F9","v":"Андреевна"},{"$f":"'[3]7 классы'!G9","v":7},{"$f":"'[3]7 классы'!H9","v":18}]
[null,null,{"$f":"'[3]9 классы'!C9","v":"Муниципальное общеобразовательное учреждение \"Средняя общеобразовательная школа №20\" г. Альметьевска Республики Татарстан"},{"$f":"'[3]9 классы'!D9","v":"Фархутдинова"},{"$f":"'[3]9 классы'!E9","v":"Регина"},{"$f":"'[3]9 классы'!F9","v":"Фаилевна"},{"$f":"'[3]9 классы'!G9","v":9},{"$f":"'[3]9 классы'!H9","v":63}]
[null,null,{"$f":"'[3]9 классы'!C10","v":"Муниципальное общеобразовательное учреждение \"Средняя общеобразовательная школа №20\" г. Альметьевска Республики Татарстан"},{"$f":"'[3]9 классы'!D10","v":"Зинатуллин"},{"$f":"'[3]9 классы'!E10","v":"Айдар"},{"$f":"'[3]9 классы'!F10","v":"Камилевич"},{"$f":"'[3]9 классы'!G10","v":9},{"$f":"'[3]9 классы'!H10","v":60}]
[null,null,{"$f":"'[3]11 классы'!C10","v":"Муниципальное общеобразовательное учреждение \"Средняя общеобразовательная школа №20\" г. Альметьевска Республики Татарстан"},{"$f":"'[3]11 классы'!D10","v":"Гимадеева"},{"$f":"'[3]11 классы'!E10","v":"Алиса"},{"$f":"'[3]11 классы'!F10","v":"Рустамовна"},{"$f":"'[3]11 классы'!G10","v":11},{"$f":"'[3]11 классы'!H10","v":54}]

{"sheet":"Лист2","index":1,"n_rows":0,"n_cols":0,"rows_kept":0}

{"sheet":"Лист3","index":2,"n_rows":0,"n_cols":0,"rows_kept":0}